BEGIN:VCALENDAR
VERSION:2.0
PRODID:-//Tampa Bay Regional Planning Council - ECPv6.15.17.1//NONSGML v1.0//EN
CALSCALE:GREGORIAN
METHOD:PUBLISH
X-WR-CALNAME:Tampa Bay Regional Planning Council
X-ORIGINAL-URL:https://tbrpc.org
X-WR-CALDESC:Events for Tampa Bay Regional Planning Council
REFRESH-INTERVAL;VALUE=DURATION:PT1H
X-Robots-Tag:noindex
X-PUBLISHED-TTL:PT1H
BEGIN:VTIMEZONE
TZID:America/New_York
BEGIN:DAYLIGHT
TZOFFSETFROM:-0500
TZOFFSETTO:-0400
TZNAME:EDT
DTSTART:20220313T070000
END:DAYLIGHT
BEGIN:STANDARD
TZOFFSETFROM:-0400
TZOFFSETTO:-0500
TZNAME:EST
DTSTART:20221106T060000
END:STANDARD
BEGIN:DAYLIGHT
TZOFFSETFROM:-0500
TZOFFSETTO:-0400
TZNAME:EDT
DTSTART:20230312T070000
END:DAYLIGHT
BEGIN:STANDARD
TZOFFSETFROM:-0400
TZOFFSETTO:-0500
TZNAME:EST
DTSTART:20231105T060000
END:STANDARD
BEGIN:DAYLIGHT
TZOFFSETFROM:-0500
TZOFFSETTO:-0400
TZNAME:EDT
DTSTART:20240310T070000
END:DAYLIGHT
BEGIN:STANDARD
TZOFFSETFROM:-0400
TZOFFSETTO:-0500
TZNAME:EST
DTSTART:20241103T060000
END:STANDARD
END:VTIMEZONE
BEGIN:VEVENT
DTSTART;TZID=America/New_York:20230309T090000
DTEND;TZID=America/New_York:20230309T120000
DTSTAMP:20260425T070644
CREATED:20230422T014416Z
LAST-MODIFIED:20230609T205156Z
UID:10000369-1678352400-1678363200@tbrpc.org
SUMMARY:Agency on Bay Management Meeting
DESCRIPTION:All meeting materials can be found on the ABM webpage. \nThis is a hybrid meeting with both in-person and virtual options for attendance. \n  \nIn-person location:  \nTampa Bay Regional Planning Council Office\n4000 Gateway Centre Blvd.\, STE 100\nPinellas Park\, Florida 33782 \n  \nZoom details to join virtually: \nDirect link to join the meeting: https://us02web.zoom.us/j/84868126930?pwd=QmhWbVJqSkNIclUxRkhqb1NWd3NVdz09\nMeeting ID: 848 6812 6930;\nPasscode: 177631\nCall-in number: +1 (786) 635-1003
URL:https://tbrpc.org/event/abm/2023-03-09/
LOCATION:Tampa Bay Regional Planning Council\, 4000 Gateway Centre Blvd.\, Suite 100\, Pinellas Park\, FL\, 33782\, United States
CATEGORIES:Hybrid: In-Person and Online Event
ATTACH;FMTTYPE=image/jpeg:https://tbrpc.org/wp-content/uploads/2023/04/agency.jpg
ORGANIZER;CN="Tampa Bay Regional Planning Council":MAILTO:info@tbrpc.org
END:VEVENT
END:VCALENDAR