BEGIN:VCALENDAR
VERSION:2.0
PRODID:-//Tampa Bay Regional Planning Council - ECPv6.15.17.1//NONSGML v1.0//EN
CALSCALE:GREGORIAN
METHOD:PUBLISH
X-WR-CALNAME:Tampa Bay Regional Planning Council
X-ORIGINAL-URL:https://tbrpc.org
X-WR-CALDESC:Events for Tampa Bay Regional Planning Council
REFRESH-INTERVAL;VALUE=DURATION:PT1H
X-Robots-Tag:noindex
X-PUBLISHED-TTL:PT1H
BEGIN:VTIMEZONE
TZID:America/New_York
BEGIN:DAYLIGHT
TZOFFSETFROM:-0500
TZOFFSETTO:-0400
TZNAME:EDT
DTSTART:20250309T070000
END:DAYLIGHT
BEGIN:STANDARD
TZOFFSETFROM:-0400
TZOFFSETTO:-0500
TZNAME:EST
DTSTART:20251102T060000
END:STANDARD
BEGIN:DAYLIGHT
TZOFFSETFROM:-0500
TZOFFSETTO:-0400
TZNAME:EDT
DTSTART:20260308T070000
END:DAYLIGHT
BEGIN:STANDARD
TZOFFSETFROM:-0400
TZOFFSETTO:-0500
TZNAME:EST
DTSTART:20261101T060000
END:STANDARD
BEGIN:DAYLIGHT
TZOFFSETFROM:-0500
TZOFFSETTO:-0400
TZNAME:EDT
DTSTART:20270314T070000
END:DAYLIGHT
BEGIN:STANDARD
TZOFFSETFROM:-0400
TZOFFSETTO:-0500
TZNAME:EST
DTSTART:20271107T060000
END:STANDARD
END:VTIMEZONE
BEGIN:VEVENT
DTSTART;TZID=America/New_York:20260514T080000
DTEND;TZID=America/New_York:20260515T143000
DTSTAMP:20260424T062923
CREATED:20260417T193932Z
LAST-MODIFIED:20260417T193932Z
UID:50868-1778745600-1778855400@tbrpc.org
SUMMARY:6th Regional Resiliency Summit
DESCRIPTION:We are honored to invite you to the 6th Regional Resiliency Summit\, hosted by the Tampa Bay Regional Planning Council and its Regional Resiliency Coalition. This important event will take place on May 14 & 15\, 2026 at the Palmetto Marriott Resort. And once again\, the 32nd Annual Future of the Region Awards will be the highlight of the Resiliency Summit luncheon on May 15\, 2026. \nIn 2026\, the Summit will focus on innovation in mitigation\, adaptation\, and sustainable growth. This year will highlight emerging technologies as well as novel adaptation strategies. This conference will feature engaging keynote speakers\, informative panel discussions\, insightful sessions focused on identifying innovative solutions to the challenges we face as a region\, and multiple networking opportunities with fellow attendees and sponsors. Join us!
URL:https://tbrpc.org/event/6th-regional-resiliency-summit/
LOCATION:Palmetto Marriott Resort\, 600 US Highway 41\, Palmetto\, FL\, 34221\, United States
CATEGORIES:Resiliency Summits
ATTACH;FMTTYPE=image/jpeg:https://tbrpc.org/wp-content/uploads/2024/11/Summit-2025-scaled.jpg
END:VEVENT
END:VCALENDAR